BEGIN:VCALENDAR
VERSION:2.0
PRODID:-//wp-events-plugin.com//7.2.3.1//EN
TZID:America/Edmonton
X-WR-TIMEZONE:America/Edmonton
BEGIN:VEVENT
UID:14@houseofpines.com
DTSTART;TZID=America/Edmonton:20181102T193000
DTEND;TZID=America/Edmonton:20181102T230000
DTSTAMP:20181023T035411Z
URL:https://www.houseofpines.com/events/unplugged-at-rise-and-root-cafe/
SUMMARY:Unplugged at Rise and Root Cafe
DESCRIPTION:Come out and join us as we play an unplugged at Rise and Root C
 afe in west Edmonton. We'll be showcasing our mellower\, more folk side fe
 aturing unplugged versions of our favorites. We'll also be debuting a new 
 cover that you will be sure to know and enjoy! We will be joined by Marc F
 erreira\, Naeem Gabriel and Tyson Boorsboom.
LOCATION:Rise and Root Cafe\, 20020 Lessard Rd\, Edmonton\, AB\, T6M 0T9\, 
 Canada
GEO:53.4795295;-113.6633167
X-APPLE-STRUCTURED-LOCATION;VALUE=URI;X-ADDRESS=20020 Lessard Rd\, Edmonton
 \, AB\, T6M 0T9\, Canada;X-APPLE-RADIUS=100;X-TITLE=Rise and Root Cafe:geo
 :53.4795295,-113.6633167
END:VEVENT
BEGIN:VTIMEZONE
TZID:America/Edmonton
X-LIC-LOCATION:America/Edmonton
BEGIN:DAYLIGHT
DTSTART:20180311T030000
TZOFFSETFROM:-0700
TZOFFSETTO:-0600
TZNAME:MDT
END:DAYLIGHT
END:VTIMEZONE
END:VCALENDAR