BEGIN:VCALENDAR
VERSION:2.0
PRODID:-//wp-events-plugin.com//7.2.3.1//EN
TZID:America/Edmonton
X-WR-TIMEZONE:America/Edmonton
BEGIN:VEVENT
UID:5@houseofpines.com
DTSTART;TZID=America/Edmonton:20170520T150000
DTEND;TZID=America/Edmonton:20170521T010000
DTSTAMP:20170520T212202Z
URL:https://www.houseofpines.com/events/startlite-room-artists-showcase-fe
 aturing-house-of-pines/
SUMMARY:Artist's Showcase - LME
DESCRIPTION:House of Pines at the Starlite Room\, May 20\, 2017.
ATTACH;FMTTYPE=image/jpeg:https://www.houseofpines.com/wp-content/uploads/
 2015/10/venue-starlite_room.png
LOCATION:The Starlite Room\, 10030 102 Street NW\, Edmonton\, AB\, T5J 0V6\
 , Canada
GEO:53.539862;-113.49607700000001
X-APPLE-STRUCTURED-LOCATION;VALUE=URI;X-ADDRESS=10030 102 Street NW\, Edmon
 ton\, AB\, T5J 0V6\, Canada;X-APPLE-RADIUS=100;X-TITLE=The Starlite Room:g
 eo:53.539862,-113.49607700000001
END:VEVENT
BEGIN:VTIMEZONE
TZID:America/Edmonton
X-LIC-LOCATION:America/Edmonton
BEGIN:DAYLIGHT
DTSTART:20170312T030000
TZOFFSETFROM:-0700
TZOFFSETTO:-0600
TZNAME:MDT
END:DAYLIGHT
END:VTIMEZONE
END:VCALENDAR