BEGIN:VCALENDAR
VERSION:2.0
PRODID:-//wp-events-plugin.com//7.2.3.1//EN
TZID:America/Edmonton
X-WR-TIMEZONE:America/Edmonton
BEGIN:VEVENT
UID:24@houseofpines.com
DTSTART;TZID=America/Edmonton:20230624T190000
DTEND;TZID=America/Edmonton:20230624T235900
DTSTAMP:20230623T030142Z
URL:https://www.houseofpines.com/events/solstice-at-rendezvous/
SUMMARY:Solstice at Rendezvous
DESCRIPTION:Come out and celebrate the summer solstice with us at our favor
 ite venue\, Rendezvous Pub. We'll be opening for Keylation and Bitter Riva
 ls - it's a show you won't want to miss.\n\nShow starts at 8pm\, $15 cover
 \, 18+
LOCATION:The Rendezvous Pub\, 10108-149 Street\, Edmonton\, Alberta\, Canad
 a
GEO:53.54207900000001;-113.578485
X-APPLE-STRUCTURED-LOCATION;VALUE=URI;X-ADDRESS=10108-149 Street\, Edmonton
 \, Alberta\, Canada;X-APPLE-RADIUS=100;X-TITLE=The Rendezvous Pub:geo:53.5
 4207900000001,-113.578485
END:VEVENT
BEGIN:VTIMEZONE
TZID:America/Edmonton
X-LIC-LOCATION:America/Edmonton
BEGIN:DAYLIGHT
DTSTART:20230312T030000
TZOFFSETFROM:-0700
TZOFFSETTO:-0600
TZNAME:MDT
END:DAYLIGHT
END:VTIMEZONE
END:VCALENDAR