BEGIN:VCALENDAR
VERSION:2.0
PRODID:-//wp-events-plugin.com//7.2.3.1//EN
TZID:America/Edmonton
X-WR-TIMEZONE:America/Edmonton
BEGIN:VEVENT
UID:6@houseofpines.com
DTSTART;TZID=America/Edmonton:20170515T210000
DTEND;TZID=America/Edmonton:20170516T000000
DTSTAMP:20170412T015107Z
URL:https://www.houseofpines.com/events/rockin-4-dollars-at-buckingham/
SUMMARY:Rockin' 4 Dollars at the Buckingham
DESCRIPTION:House of Pines is playing a short acoustic set at Buckingham\, 
 Monday May 15. Expect two originals and one cover. Doors at 8\, bands at 9
 . We'll be there all night\, and might even have a few tracks off the new 
 album to give you!
LOCATION:The Buckingham\, 10439 82 Ave NW\, Edmonton\, Canada
GEO:53.51776;-113.49916389999999
X-APPLE-STRUCTURED-LOCATION;VALUE=URI;X-ADDRESS=10439 82 Ave NW\, Edmonton\
 , Canada;X-APPLE-RADIUS=100;X-TITLE=The Buckingham:geo:53.51776,-113.49916
 389999999
END:VEVENT
BEGIN:VTIMEZONE
TZID:America/Edmonton
X-LIC-LOCATION:America/Edmonton
BEGIN:DAYLIGHT
DTSTART:20170312T030000
TZOFFSETFROM:-0700
TZOFFSETTO:-0600
TZNAME:MDT
END:DAYLIGHT
END:VTIMEZONE
END:VCALENDAR