BEGIN:VCALENDAR
VERSION:2.0
PRODID:-//wp-events-plugin.com//7.2.3.1//EN
TZID:America/Edmonton
X-WR-TIMEZONE:America/Edmonton
BEGIN:VEVENT
UID:22@houseofpines.com
DTSTART;TZID=America/Edmonton:20220416T200000
DTEND;TZID=America/Edmonton:20220416T233000
DTSTAMP:20220410T185909Z
URL:https://www.houseofpines.com/events/rendezvous-at-rendezvous/
SUMMARY:Rendezvous at Rendezvous
DESCRIPTION:Join us for coming out of lockdown 2.0 at our favorite haunt - 
 Rendezvous! Joining Escape Goat and Buffalo Stone for an evening of alt-me
 tal and rock. Looking forward to see you all again after so long!
END:VEVENT
BEGIN:VTIMEZONE
TZID:America/Edmonton
X-LIC-LOCATION:America/Edmonton
BEGIN:DAYLIGHT
DTSTART:20220313T030000
TZOFFSETFROM:-0700
TZOFFSETTO:-0600
TZNAME:MDT
END:DAYLIGHT
END:VTIMEZONE
END:VCALENDAR