BEGIN:VCALENDAR
VERSION:2.0
PRODID:-//wp-events-plugin.com//7.2.3.1//EN
TZID:America/Edmonton
X-WR-TIMEZONE:America/Edmonton
BEGIN:VEVENT
UID:16@houseofpines.com
DTSTART;TZID=America/Edmonton:20190111T213000
DTEND;TZID=America/Edmonton:20190111T213000
DTSTAMP:20181104T015352Z
URL:https://www.houseofpines.com/events/new-year-at-soundlab/
SUMMARY:New Year at SoundLab
DESCRIPTION:Come and start off the new year with House of Pines - we'll be 
 returning to the SoundLab\, the Edmonton area's premier new jam space and 
 venue. Other bands and time to be confirmed shortly!
ATTACH;FMTTYPE=image/jpeg:https://www.houseofpines.com/wp-content/uploads/
 2018/11/sound-lab-logo.jpg
END:VEVENT
BEGIN:VTIMEZONE
TZID:America/Edmonton
X-LIC-LOCATION:America/Edmonton
BEGIN:STANDARD
DTSTART:20181104T010000
TZOFFSETFROM:-0600
TZOFFSETTO:-0700
TZNAME:MST
END:STANDARD
END:VTIMEZONE
END:VCALENDAR