BEGIN:VCALENDAR
VERSION:2.0
PRODID:-//wp-events-plugin.com//7.2.3.1//EN
TZID:America/Edmonton
X-WR-TIMEZONE:America/Edmonton
BEGIN:VEVENT
UID:10@houseofpines.com
DTSTART;TZID=America/Edmonton:20171103T200000
DTEND;TZID=America/Edmonton:20171103T233000
DTSTAMP:20171101T035914Z
URL:https://www.houseofpines.com/events/live-with-our-abandon/
SUMMARY:Live with Our Abandon
DESCRIPTION:House of Pines is proud to open for Our Abandon\, live at Rende
 zvous Pub! We have a great set planned including our old favorites\, cover
 s and new material. Come on out and rock with us this Friday night!\n\nDoo
 rs open at 8pm\, show at 10pm. Cover is $12. 18+ only\n\n
ATTACH;FMTTYPE=image/jpeg:https://www.houseofpines.com/wp-content/uploads/
 2017/10/Untitled.png
LOCATION:The Rendezvous Pub\, 10108-149 Street\, Edmonton\, Alberta\, Canad
 a
GEO:53.54207900000001;-113.578485
X-APPLE-STRUCTURED-LOCATION;VALUE=URI;X-ADDRESS=10108-149 Street\, Edmonton
 \, Alberta\, Canada;X-APPLE-RADIUS=100;X-TITLE=The Rendezvous Pub:geo:53.5
 4207900000001,-113.578485
END:VEVENT
BEGIN:VTIMEZONE
TZID:America/Edmonton
X-LIC-LOCATION:America/Edmonton
BEGIN:DAYLIGHT
DTSTART:20170312T030000
TZOFFSETFROM:-0700
TZOFFSETTO:-0600
TZNAME:MDT
END:DAYLIGHT
END:VTIMEZONE
END:VCALENDAR