BEGIN:VCALENDAR
VERSION:2.0
PRODID:-//wp-events-plugin.com//7.2.3.1//EN
TZID:America/Edmonton
X-WR-TIMEZONE:America/Edmonton
BEGIN:VEVENT
UID:15@houseofpines.com
DTSTART;TZID=America/Edmonton:20181201T213000
DTEND;TZID=America/Edmonton:20181201T233000
DTSTAMP:20181104T014856Z
URL:https://www.houseofpines.com/events/live-at-the-sound-lab/
SUMMARY:Live at the Sound Lab
DESCRIPTION:Come and join House of Pines for a full electric set at one of 
 the newest venues in the Edmonton area: The SoundLab! Other groups and tim
 e to be announced shortly!
ATTACH;FMTTYPE=image/jpeg:https://www.houseofpines.com/wp-content/uploads/
 2018/11/sound-lab-logo.jpg
END:VEVENT
BEGIN:VTIMEZONE
TZID:America/Edmonton
X-LIC-LOCATION:America/Edmonton
BEGIN:STANDARD
DTSTART:20181104T010000
TZOFFSETFROM:-0600
TZOFFSETTO:-0700
TZNAME:MST
END:STANDARD
END:VTIMEZONE
END:VCALENDAR