BEGIN:VCALENDAR
VERSION:2.0
PRODID:-//wp-events-plugin.com//7.2.3.1//EN
TZID:America/Edmonton
X-WR-TIMEZONE:America/Edmonton
BEGIN:VEVENT
UID:20@houseofpines.com
DTSTART;TZID=America/Edmonton:20200222T210000
DTEND;TZID=America/Edmonton:20200222T233000
DTSTAMP:20200218T000751Z
URL:https://www.houseofpines.com/events/live-at-rendezvous/
SUMMARY:Live at Rendezvous
DESCRIPTION:House of Pines joins Misplaced Intentions and The Dabs at Rende
 zvous Pub for a night of metal and rock. Brave the cold and bid farewell t
 o winter for another year!
LOCATION:The Rendezvous Pub\, 10108-149 Street\, Edmonton\, Alberta\, Canad
 a
GEO:53.54207900000001;-113.578485
X-APPLE-STRUCTURED-LOCATION;VALUE=URI;X-ADDRESS=10108-149 Street\, Edmonton
 \, Alberta\, Canada;X-APPLE-RADIUS=100;X-TITLE=The Rendezvous Pub:geo:53.5
 4207900000001,-113.578485
END:VEVENT
BEGIN:VTIMEZONE
TZID:America/Edmonton
X-LIC-LOCATION:America/Edmonton
BEGIN:STANDARD
DTSTART:20191103T010000
TZOFFSETFROM:-0600
TZOFFSETTO:-0700
TZNAME:MST
END:STANDARD
END:VTIMEZONE
END:VCALENDAR