BEGIN:VCALENDAR
VERSION:2.0
PRODID:-//wp-events-plugin.com//7.2.3.1//EN
TZID:America/Edmonton
X-WR-TIMEZONE:America/Edmonton
BEGIN:VEVENT
UID:18@houseofpines.com
DTSTART;TZID=America/Edmonton:20190406T200000
DTEND;TZID=America/Edmonton:20190406T233000
DTSTAMP:20190303T044448Z
URL:https://www.houseofpines.com/events/live-at-rendezvous-pub/
SUMMARY:Live at Rendezvous Pub
DESCRIPTION:House of Pines returns once again to one of our favorite venues
 : Rendezvous Pub\, this time joined by Seven Suns\, Escape Goat and VogueV
 illains!
LOCATION:Redenzvous Pub\, 10108 149 Street NW\, Edmonton\, AB\, T5P 1L1\, C
 anada
X-APPLE-STRUCTURED-LOCATION;VALUE=URI;X-ADDRESS=10108 149 Street NW\, Edmon
 ton\, AB\, T5P 1L1\, Canada;X-APPLE-RADIUS=100;X-TITLE=Redenzvous Pub:geo:
 0,0
END:VEVENT
BEGIN:VTIMEZONE
TZID:America/Edmonton
X-LIC-LOCATION:America/Edmonton
BEGIN:DAYLIGHT
DTSTART:20190310T030000
TZOFFSETFROM:-0700
TZOFFSETTO:-0600
TZNAME:MDT
END:DAYLIGHT
END:VTIMEZONE
END:VCALENDAR