BEGIN:VCALENDAR
VERSION:2.0
PRODID:-//wp-events-plugin.com//7.2.3.1//EN
TZID:America/Edmonton
X-WR-TIMEZONE:America/Edmonton
BEGIN:VEVENT
UID:23@houseofpines.com
DTSTART;TZID=America/Edmonton:20221118T200000
DTEND;TZID=America/Edmonton:20221118T233000
DTSTAMP:20221106T210237Z
URL:https://www.houseofpines.com/events/live-at-rendezvous-2/
SUMMARY:Live at Rendezvous
DESCRIPTION:Ringing in the winter with thunderous bass and screaming vocals
 \, come and join House of Pines\, Silent Script and Buffalo Stone for our 
 last show of 2022 at Rendezvous Pub! This one will blow your minds!
LOCATION:The Rendezvous Pub\, 10108-149 Street\, Edmonton\, Alberta\, Canad
 a
GEO:53.54207900000001;-113.578485
X-APPLE-STRUCTURED-LOCATION;VALUE=URI;X-ADDRESS=10108-149 Street\, Edmonton
 \, Alberta\, Canada;X-APPLE-RADIUS=100;X-TITLE=The Rendezvous Pub:geo:53.5
 4207900000001,-113.578485
END:VEVENT
BEGIN:VTIMEZONE
TZID:America/Edmonton
X-LIC-LOCATION:America/Edmonton
BEGIN:STANDARD
DTSTART:20221106T010000
TZOFFSETFROM:-0600
TZOFFSETTO:-0700
TZNAME:MST
END:STANDARD
END:VTIMEZONE
END:VCALENDAR