BEGIN:VCALENDAR
VERSION:2.0
PRODID:-//wp-events-plugin.com//7.2.3.1//EN
TZID:America/Edmonton
X-WR-TIMEZONE:America/Edmonton
BEGIN:VEVENT
UID:4@houseofpines.com
DTSTART;TZID=America/Edmonton:20161029T190000
DTEND;TZID=America/Edmonton:20161029T233000
DTSTAMP:20160925T170931Z
URL:https://www.houseofpines.com/events/live-at-bohemia/
SUMMARY:Live at Bohemia
DESCRIPTION:House of Pines joins Dead Honey\, Pool Little Tin Man and Medic
 al Pilot for a live evening at Bohemia! Ring in an early Halloween by rock
 ing out with these great local acts! 
ATTACH;FMTTYPE=image/jpeg:https://www.houseofpines.com/wp-content/uploads/
 2016/09/bohemia_icon.jpg
LOCATION:Bohemia\, 10217 97 Street NW\, Edmonton\, Alberta\, Canada
GEO:53.5445208;-113.48618090000002
X-APPLE-STRUCTURED-LOCATION;VALUE=URI;X-ADDRESS=10217 97 Street NW\, Edmont
 on\, Alberta\, Canada;X-APPLE-RADIUS=100;X-TITLE=Bohemia:geo:53.5445208,-1
 13.48618090000002
END:VEVENT
BEGIN:VTIMEZONE
TZID:America/Edmonton
X-LIC-LOCATION:America/Edmonton
BEGIN:DAYLIGHT
DTSTART:20160313T030000
TZOFFSETFROM:-0700
TZOFFSETTO:-0600
TZNAME:MDT
END:DAYLIGHT
END:VTIMEZONE
END:VCALENDAR