BEGIN:VCALENDAR
VERSION:2.0
PRODID:-//wp-events-plugin.com//7.2.3.1//EN
TZID:America/Edmonton
X-WR-TIMEZONE:America/Edmonton
BEGIN:VEVENT
UID:29@houseofpines.com
DTSTART;TZID=America/Edmonton:20260221T200000
DTEND;TZID=America/Edmonton:20260222T010000
DTSTAMP:20260219T032549Z
URL:https://www.houseofpines.com/events/live-at-blakbar/
SUMMARY:Live at Blakbar
DESCRIPTION:Join House of Pines as they open for local legends Keylation an
 d Kill the Eclipse at Blakbar on Whyte Ave. Nothing cuts through the cold 
 like metal.
ATTACH;FMTTYPE=image/jpeg:https://www.houseofpines.com/wp-content/uploads/
 2019/03/22228382_1377000662425655_7393830629605414292_n.jpg
END:VEVENT
BEGIN:VTIMEZONE
TZID:America/Edmonton
X-LIC-LOCATION:America/Edmonton
BEGIN:STANDARD
DTSTART:20251102T010000
TZOFFSETFROM:-0600
TZOFFSETTO:-0700
TZNAME:MST
END:STANDARD
END:VTIMEZONE
END:VCALENDAR