BEGIN:VCALENDAR
VERSION:2.0
PRODID:-//wp-events-plugin.com//7.2.3.1//EN
TZID:America/Edmonton
X-WR-TIMEZONE:America/Edmonton
BEGIN:VEVENT
UID:11@houseofpines.com
DTSTART;TZID=America/Edmonton:20180113T200000
DTEND;TZID=America/Edmonton:20180113T233000
DTSTAMP:20171223T024812Z
URL:https://www.houseofpines.com/events/january-at-rendezvous/
SUMMARY:January at Rendezvous
DESCRIPTION:Starting off the new year fresh at Rendezvous! Joined by Absint
 he from Society and other local acts for an evening of rock and metal.
LOCATION:The Rendezvous Pub\, 10108-149 Street\, Edmonton\, Alberta\, Canad
 a
GEO:53.54207900000001;-113.578485
X-APPLE-STRUCTURED-LOCATION;VALUE=URI;X-ADDRESS=10108-149 Street\, Edmonton
 \, Alberta\, Canada;X-APPLE-RADIUS=100;X-TITLE=The Rendezvous Pub:geo:53.5
 4207900000001,-113.578485
END:VEVENT
BEGIN:VTIMEZONE
TZID:America/Edmonton
X-LIC-LOCATION:America/Edmonton
BEGIN:STANDARD
DTSTART:20171105T010000
TZOFFSETFROM:-0600
TZOFFSETTO:-0700
TZNAME:MST
END:STANDARD
END:VTIMEZONE
END:VCALENDAR