BEGIN:VCALENDAR
VERSION:2.0
PRODID:-//wp-events-plugin.com//7.2.3.1//EN
TZID:America/Edmonton
X-WR-TIMEZONE:America/Edmonton
BEGIN:VEVENT
UID:25@houseofpines.com
DTSTART;TZID=America/Edmonton:20231202T213000
DTEND;TZID=America/Edmonton:20231202T233000
DTSTAMP:20231128T031506Z
URL:https://www.houseofpines.com/events/hop-at-five-dive/
SUMMARY:HoP at Five & Dive
DESCRIPTION:Keep warm and get ready to ring in the holidays with food\, boo
 ze and metal at Five & Dive near West Edmonton Mall. Joined by two amazing
  local acts: The Nightstand and Lonely Hearts.
ATTACH;FMTTYPE=image/jpeg:https://www.houseofpines.com/wp-content/uploads/
 2023/11/download.jpg
LOCATION:Five and Dive\, 8882 170 Street NW\, Edmonton\, AB\, T5T 4M2\, Can
 ada
X-APPLE-STRUCTURED-LOCATION;VALUE=URI;X-ADDRESS=8882 170 Street NW\, Edmont
 on\, AB\, T5T 4M2\, Canada;X-APPLE-RADIUS=100;X-TITLE=Five and Dive:geo:0,
 0
END:VEVENT
BEGIN:VTIMEZONE
TZID:America/Edmonton
X-LIC-LOCATION:America/Edmonton
BEGIN:STANDARD
DTSTART:20231105T010000
TZOFFSETFROM:-0600
TZOFFSETTO:-0700
TZNAME:MST
END:STANDARD
END:VTIMEZONE
END:VCALENDAR