BEGIN:VCALENDAR
VERSION:2.0
PRODID:-//wp-events-plugin.com//7.2.3.1//EN
TZID:America/Edmonton
X-WR-TIMEZONE:America/Edmonton
BEGIN:VEVENT
UID:12@houseofpines.com
DTSTART;TZID=America/Edmonton:20180303T200000
DTEND;TZID=America/Edmonton:20180303T233000
DTSTAMP:20180209T052339Z
URL:https://www.houseofpines.com/events/hop-at-bohemia/
SUMMARY:HoP At Bohemia
DESCRIPTION:Come and join House of Pines for an evening of rock at Bohemia!
  We will be playing alongside two local acts (TBA) and will be proudly pre
 senting new original material as well as a few new covers. 
ATTACH;FMTTYPE=image/jpeg:https://www.houseofpines.com/wp-content/uploads/
 2016/09/bohemia_icon.jpg
LOCATION:Bohemia\, 10217 97 Street NW\, Edmonton\, Alberta\, Canada
GEO:53.5445208;-113.48618090000002
X-APPLE-STRUCTURED-LOCATION;VALUE=URI;X-ADDRESS=10217 97 Street NW\, Edmont
 on\, Alberta\, Canada;X-APPLE-RADIUS=100;X-TITLE=Bohemia:geo:53.5445208,-1
 13.48618090000002
END:VEVENT
BEGIN:VTIMEZONE
TZID:America/Edmonton
X-LIC-LOCATION:America/Edmonton
BEGIN:STANDARD
DTSTART:20171105T010000
TZOFFSETFROM:-0600
TZOFFSETTO:-0700
TZNAME:MST
END:STANDARD
END:VTIMEZONE
END:VCALENDAR