BEGIN:VCALENDAR
VERSION:2.0
PRODID:-//wp-events-plugin.com//7.2.3.1//EN
TZID:America/Edmonton
X-WR-TIMEZONE:America/Edmonton
BEGIN:VEVENT
UID:7@houseofpines.com
DTSTART;TZID=America/Edmonton:20170604T150000
DTEND;TZID=America/Edmonton:20170604T170000
DTSTAMP:20170530T181759Z
URL:https://www.houseofpines.com/events/heart-of-the-city/
SUMMARY:Heart of the City
DESCRIPTION:House of Pines is proud to be a part of the Edmonton Heart of t
 he City festival for the second year!\n\nSet time will be 425\, but arrive
  early just in case!\n\nCome out and join us for an afternoon of music wit
 h representation from all across the city.\n\nCheck out Heart of the City 
 for even more information!
ATTACH;FMTTYPE=image/jpeg:https://www.houseofpines.com/wp-content/uploads/
 2016/05/event-heartofthecity.png
LOCATION:Giovanni Caboto Park\, 10859 95 Street\, Edmonton\, Alberta\, Cana
 da
GEO:53.5560102;-113.48475450000001
X-APPLE-STRUCTURED-LOCATION;VALUE=URI;X-ADDRESS=10859 95 Street\, Edmonton\
 , Alberta\, Canada;X-APPLE-RADIUS=100;X-TITLE=Giovanni Caboto Park:geo:53.
 5560102,-113.48475450000001
END:VEVENT
BEGIN:VTIMEZONE
TZID:America/Edmonton
X-LIC-LOCATION:America/Edmonton
BEGIN:DAYLIGHT
DTSTART:20170312T030000
TZOFFSETFROM:-0700
TZOFFSETTO:-0600
TZNAME:MDT
END:DAYLIGHT
END:VTIMEZONE
END:VCALENDAR