BEGIN:VCALENDAR
VERSION:2.0
PRODID:-//wp-events-plugin.com//7.2.3.1//EN
TZID:America/Edmonton
X-WR-TIMEZONE:America/Edmonton
BEGIN:VEVENT
UID:17@houseofpines.com
DTSTART;TZID=America/Edmonton:20190320T193000
DTEND;TZID=America/Edmonton:20190320T230000
DTSTAMP:20190303T044511Z
URL:https://www.houseofpines.com/events/guest-at-blakbar-on-whyte/
SUMMARY:Guest at Blakbar on Whyte
DESCRIPTION:House of Pines joins Times Relative\, Misplaced Intentions and 
 Apollo Spitfire at Blakbar on Whyte! Come out and join us for an all-out m
 etal marathon at this sleek\, modern tavern.
ATTACH;FMTTYPE=image/jpeg:https://www.houseofpines.com/wp-content/uploads/
 2019/03/22228382_1377000662425655_7393830629605414292_n.jpg
LOCATION:Blakbar Tavern\, 10762 82 Avenue\, Edmonton\, Alberta\, T6E 2A8\, 
 C&ocirc\;te D'Ivoire
X-APPLE-STRUCTURED-LOCATION;VALUE=URI;X-ADDRESS=10762 82 Avenue\, Edmonton\
 , Alberta\, T6E 2A8\, Côte D'Ivoire;X-APPLE-RADIUS=100;X-TITLE=Blakbar Ta
 vern:geo:0,0
END:VEVENT
BEGIN:VTIMEZONE
TZID:America/Edmonton
X-LIC-LOCATION:America/Edmonton
BEGIN:DAYLIGHT
DTSTART:20190310T030000
TZOFFSETFROM:-0700
TZOFFSETTO:-0600
TZNAME:MDT
END:DAYLIGHT
END:VTIMEZONE
END:VCALENDAR