BEGIN:VCALENDAR
VERSION:2.0
PRODID:-//wp-events-plugin.com//7.2.3.1//EN
TZID:America/Edmonton
X-WR-TIMEZONE:America/Edmonton
BEGIN:VEVENT
UID:21@houseofpines.com
DTSTART;TZID=America/Edmonton:20210813T200000
DTEND;TZID=America/Edmonton:20210814T010000
DTSTAMP:20210805T040409Z
URL:https://www.houseofpines.com/events/end-lockdown-at-rendezvous/
SUMMARY:End Lockdown at Rendezvous
DESCRIPTION:After nearly a year and a half\, HoP bids farewell to lockdown 
 for our very first show since the start of the pandemic!
END:VEVENT
BEGIN:VTIMEZONE
TZID:America/Edmonton
X-LIC-LOCATION:America/Edmonton
BEGIN:DAYLIGHT
DTSTART:20210314T030000
TZOFFSETFROM:-0700
TZOFFSETTO:-0600
TZNAME:MDT
END:DAYLIGHT
END:VTIMEZONE
END:VCALENDAR