BEGIN:VCALENDAR
VERSION:2.0
PRODID:-//wp-events-plugin.com//7.2.3.1//EN
TZID:America/Edmonton
X-WR-TIMEZONE:America/Edmonton
BEGIN:VEVENT
UID:19@houseofpines.com
DTSTART;TZID=America/Edmonton:20191221T220000
DTEND;TZID=America/Edmonton:20191221T233000
DTSTAMP:20191219T224829Z
URL:https://www.houseofpines.com/events/deck-rendezvous-halls/
SUMMARY:Deck Rendezvous Halls
DESCRIPTION:House of Pines returns to one of our favorite haunts just in ti
 me to ring in the holidays. Come out and join us for a hard-rock and metal
  set. We'll also be debuting a new cover which you're sure to enjoy!\n\nSh
 ow starts at 10pm\, 18+ only\n\nRendezvous Pub\n10108 149 Street NW\nEdmon
 ton AB\, T5P 1L1
END:VEVENT
BEGIN:VTIMEZONE
TZID:America/Edmonton
X-LIC-LOCATION:America/Edmonton
BEGIN:STANDARD
DTSTART:20191103T010000
TZOFFSETFROM:-0600
TZOFFSETTO:-0700
TZNAME:MST
END:STANDARD
END:VTIMEZONE
END:VCALENDAR