BEGIN:VCALENDAR
VERSION:2.0
PRODID:-//wp-events-plugin.com//7.2.3.1//EN
TZID:America/Edmonton
X-WR-TIMEZONE:America/Edmonton
BEGIN:VEVENT
UID:8@houseofpines.com
DTSTART;TZID=America/Edmonton:20170714T200000
DTEND;TZID=America/Edmonton:20170714T220000
DTSTAMP:20170520T212936Z
URL:https://www.houseofpines.com/events/cha-island/
SUMMARY:Cha Island
DESCRIPTION:Come and join House of Pines for an acoustic set at the relaxin
 g Cha Island Cafe and Lounge\, just off Whyte Ave. Doors open at 8pm\, mus
 ic starts at 9pm. Tickets are $5 in advance\, $10 at the door - contact us
  for advance tickets.
LOCATION:Cha Island Cafe & Lounge\, 10332 81 Ave NW\, Edmonton\, Canada\, T
 6E 1X2\, Canada
GEO:53.517415;-113.496216
X-APPLE-STRUCTURED-LOCATION;VALUE=URI;X-ADDRESS=10332 81 Ave NW\, Edmonton\
 , Canada\, T6E 1X2\, Canada;X-APPLE-RADIUS=100;X-TITLE=Cha Island Cafe & L
 ounge:geo:53.517415,-113.496216
END:VEVENT
BEGIN:VTIMEZONE
TZID:America/Edmonton
X-LIC-LOCATION:America/Edmonton
BEGIN:DAYLIGHT
DTSTART:20170312T030000
TZOFFSETFROM:-0700
TZOFFSETTO:-0600
TZNAME:MDT
END:DAYLIGHT
END:VTIMEZONE
END:VCALENDAR