BEGIN:VCALENDAR
VERSION:2.0
PRODID:-//wp-events-plugin.com//7.2.3.1//EN
TZID:America/Edmonton
X-WR-TIMEZONE:America/Edmonton
BEGIN:VEVENT
UID:13@houseofpines.com
DTSTART;TZID=America/Edmonton:20180414T200000
DTEND;TZID=America/Edmonton:20180414T233000
DTSTAMP:20180408T165143Z
URL:https://www.houseofpines.com/events/acoustic-set-rendezvous/
SUMMARY:Acoustic Set @ Rendezvous
DESCRIPTION:Interested in something a little different? Come out and a join
  us for a chill\, unplugged set at one of our favorite venues. Also featur
 ing the masters of ambiance: Nebular Wave! 
LOCATION:The Rendezvous Pub\, 10108-149 Street\, Edmonton\, Alberta\, Canad
 a
GEO:53.54207900000001;-113.578485
X-APPLE-STRUCTURED-LOCATION;VALUE=URI;X-ADDRESS=10108-149 Street\, Edmonton
 \, Alberta\, Canada;X-APPLE-RADIUS=100;X-TITLE=The Rendezvous Pub:geo:53.5
 4207900000001,-113.578485
END:VEVENT
BEGIN:VTIMEZONE
TZID:America/Edmonton
X-LIC-LOCATION:America/Edmonton
BEGIN:DAYLIGHT
DTSTART:20180311T030000
TZOFFSETFROM:-0700
TZOFFSETTO:-0600
TZNAME:MDT
END:DAYLIGHT
END:VTIMEZONE
END:VCALENDAR