BEGIN:VCALENDAR
VERSION:2.0
PRODID:-//wp-events-plugin.com//7.2.3.1//EN
TZID:America/Edmonton
X-WR-TIMEZONE:America/Edmonton
BEGIN:VEVENT
UID:28@houseofpines.com
DTSTART;TZID=America/Edmonton:20250713T180000
DTEND;TZID=America/Edmonton:20250713T223000
DTSTAMP:20250706T191729Z
URL:https://www.houseofpines.com/events/611/
SUMMARY:Summer Scream Spectacular
DESCRIPTION:Join House of Pines alongside four other outstanding local acts
  to celebrate the height of summer with Metal at the Starlite Room's very 
 own Temple Bar!
ATTACH;FMTTYPE=image/jpeg:https://www.houseofpines.com/wp-content/uploads/
 2025/07/The-Starlite-Room-logo.png
END:VEVENT
BEGIN:VTIMEZONE
TZID:America/Edmonton
X-LIC-LOCATION:America/Edmonton
BEGIN:DAYLIGHT
DTSTART:20250309T030000
TZOFFSETFROM:-0700
TZOFFSETTO:-0600
TZNAME:MDT
END:DAYLIGHT
END:VTIMEZONE
END:VCALENDAR